BEGIN:VCALENDAR
VERSION:2.0
PRODID:-//Sinnen-Raum - ECPv6.15.20//NONSGML v1.0//EN
CALSCALE:GREGORIAN
METHOD:PUBLISH
X-WR-CALNAME:Sinnen-Raum
X-ORIGINAL-URL:https://www.sinnen-raum.at
X-WR-CALDESC:Veranstaltungen für Sinnen-Raum
REFRESH-INTERVAL;VALUE=DURATION:PT1H
X-Robots-Tag:noindex
X-PUBLISHED-TTL:PT1H
BEGIN:VTIMEZONE
TZID:Europe/Vienna
BEGIN:DAYLIGHT
TZOFFSETFROM:+0100
TZOFFSETTO:+0200
TZNAME:CEST
DTSTART:20250330T010000
END:DAYLIGHT
BEGIN:STANDARD
TZOFFSETFROM:+0200
TZOFFSETTO:+0100
TZNAME:CET
DTSTART:20251026T010000
END:STANDARD
BEGIN:DAYLIGHT
TZOFFSETFROM:+0100
TZOFFSETTO:+0200
TZNAME:CEST
DTSTART:20260329T010000
END:DAYLIGHT
BEGIN:STANDARD
TZOFFSETFROM:+0200
TZOFFSETTO:+0100
TZNAME:CET
DTSTART:20261025T010000
END:STANDARD
BEGIN:DAYLIGHT
TZOFFSETFROM:+0100
TZOFFSETTO:+0200
TZNAME:CEST
DTSTART:20270328T010000
END:DAYLIGHT
BEGIN:STANDARD
TZOFFSETFROM:+0200
TZOFFSETTO:+0100
TZNAME:CET
DTSTART:20271031T010000
END:STANDARD
END:VTIMEZONE
BEGIN:VEVENT
DTSTART;TZID=Europe/Vienna:20260424T150000
DTEND;TZID=Europe/Vienna:20260424T200000
DTSTAMP:20260422T102959
CREATED:20251205T130638Z
LAST-MODIFIED:20251205T130638Z
UID:5418-1777042800-1777060800@www.sinnen-raum.at
SUMMARY:Systemische Aufstellungen
DESCRIPTION:Dein Raum für dialogisch-systemische Aufstellungen mit deinem persönlichen oder beruflichen Thema. Es können 3 bis 4 Aufstellungen pro Nachmittag aufgestellt werden. Du kannst dein eigenes Anliegen aufstellen oder als RepräsentantIn verschiedene Rollen übernehmen und dabei mehr über dich selbst erfahren. \nKosten:\n\n\n\n\nAufstellung mit eigenem Anliegen\n€ 250\n\n\nTeilnahme als RepräsentantIn\n€ 70
URL:https://www.sinnen-raum.at/event/systemische-aufstellungen-5/
LOCATION:Sinnen-Raum\, Spitalgasse 1/29\, Wien\, 1090
CATEGORIES:Aufstellungsräume,Eigene
ATTACH;FMTTYPE=image/jpeg:https://www.sinnen-raum.at/wp-content/uploads/2022/06/aufstellung2.jpg
END:VEVENT
END:VCALENDAR