BEGIN:VCALENDAR
VERSION:2.0
PRODID:-//Sinnen-Raum - ECPv6.15.20//NONSGML v1.0//EN
CALSCALE:GREGORIAN
METHOD:PUBLISH
X-WR-CALNAME:Sinnen-Raum
X-ORIGINAL-URL:https://www.sinnen-raum.at
X-WR-CALDESC:Veranstaltungen für Sinnen-Raum
REFRESH-INTERVAL;VALUE=DURATION:PT1H
X-Robots-Tag:noindex
X-PUBLISHED-TTL:PT1H
BEGIN:VTIMEZONE
TZID:Europe/Vienna
BEGIN:DAYLIGHT
TZOFFSETFROM:+0100
TZOFFSETTO:+0200
TZNAME:CEST
DTSTART:20250330T010000
END:DAYLIGHT
BEGIN:STANDARD
TZOFFSETFROM:+0200
TZOFFSETTO:+0100
TZNAME:CET
DTSTART:20251026T010000
END:STANDARD
BEGIN:DAYLIGHT
TZOFFSETFROM:+0100
TZOFFSETTO:+0200
TZNAME:CEST
DTSTART:20260329T010000
END:DAYLIGHT
BEGIN:STANDARD
TZOFFSETFROM:+0200
TZOFFSETTO:+0100
TZNAME:CET
DTSTART:20261025T010000
END:STANDARD
BEGIN:DAYLIGHT
TZOFFSETFROM:+0100
TZOFFSETTO:+0200
TZNAME:CEST
DTSTART:20270328T010000
END:DAYLIGHT
BEGIN:STANDARD
TZOFFSETFROM:+0200
TZOFFSETTO:+0100
TZNAME:CET
DTSTART:20271031T010000
END:STANDARD
END:VTIMEZONE
BEGIN:VEVENT
DTSTART;VALUE=DATE:20260612
DTEND;VALUE=DATE:20260615
DTSTAMP:20260422T130808
CREATED:20251205T133511Z
LAST-MODIFIED:20251220T141311Z
UID:5425-1781222400-1781481599@www.sinnen-raum.at
SUMMARY:Die Kunst in Beziehung zu sein
DESCRIPTION:Unser Retreat geht in die nächste Runde! \nAuf diesem 3-tägigen Retreat bekommt ihr ein Verständnis davon\, welche Gesetzmäßigkeiten Partnerschaften zugrunde liegen. Wir werden euch einen Einblick in die Theorie geben\, was passiert\, wenn ihr euch verliebt und warum dieses Gefühl irgendwann nachlässt – und ihr werdet erfahren\, wie ihr dennoch in liebevoller Verbindung bleiben könnt. \nWir stellen einen vertraulichen und sicheren Rahmen zur Verfügung\, in dem ihr die Gelegenheit haben werdet\, euch einander zuzuwenden\, euch wirklich zu hören und zu sehen und euch in eurer Essenz wahrzunehmen. Mit Hilfe von angeleiteten Übungen werdet ihr destruktive Gewohnheiten und alte Muster erkennen\, immer mehr loslassen und zu mehr Achtsamkeit in eurer Beziehung finden. So können Vertrauen und Verständnis füreinander wachsen. \nDieser Workshop ist für Menschen\, die \n\nihre Partnerschaft bewusst\, vertrauensvoll und liebevoll gestalten wollen. \n\nihre Beziehung vertiefen und neue Seiten an sich selbst und ihrem Partner entdecken möchten. \n\ndas Feuer der Leidenschaft wieder neu entfachen wollen. \n\neine Krise überwinden und gestärkt daraus hervorgehen wollen. \n\npersönlich reifen und wachsen wollen. \nDie Kunst in Beziehung zu sein\, bezieht sich nicht nur auf deine Partnerschaft. Sich in liebevollem und respektvollem Miteinander zu üben\, wird auch Auswirkungen auf die Beziehung zu deinen Freunden\, Eltern\, Kindern und KollegInnen haben. \nKosten:\n\n\n\n\ninkl. Übernachtung + Verpflegung\, exkl. Anreise\n€ 1.500 p.P.
URL:https://www.sinnen-raum.at/event/die-kunst-in-beziehung-zu-sein-2/
LOCATION:Snowshill Cottage\, Snowshill\, Gloucestershire\, Großbritannien (Vereinigtes Königreich)
CATEGORIES:Eigene
ATTACH;FMTTYPE=image/jpeg:https://www.sinnen-raum.at/wp-content/uploads/2022/07/beziehungen-events.jpg
END:VEVENT
END:VCALENDAR